BEGIN:VCALENDAR
VERSION:2.0
PRODID:-//Paralympics Meerut - ECPv6.15.16//NONSGML v1.0//EN
CALSCALE:GREGORIAN
METHOD:PUBLISH
X-ORIGINAL-URL:https://meerutparaassociation.in
X-WR-CALDESC:Events for Paralympics Meerut
REFRESH-INTERVAL;VALUE=DURATION:PT1H
X-Robots-Tag:noindex
X-PUBLISHED-TTL:PT1H
BEGIN:VTIMEZONE
TZID:Asia/Kolkata
BEGIN:STANDARD
TZOFFSETFROM:+0530
TZOFFSETTO:+0530
TZNAME:IST
DTSTART:20250101T000000
END:STANDARD
END:VTIMEZONE
BEGIN:VEVENT
DTSTART;VALUE=DATE:20260115
DTEND;VALUE=DATE:20260116
DTSTAMP:20260421T161439
CREATED:20260108T093836Z
LAST-MODIFIED:20260108T094111Z
UID:3872-1768435200-1768521599@meerutparaassociation.in
SUMMARY:State Level Para Badminton Championship 2026
DESCRIPTION:Paralympics Meerut is proud to announce the State Level Para Badminton Championship 2026\, aimed at providing a competitive platform for para-athletes to showcase their skills and sporting spirit. \nThis championship will bring together talented para-badminton players from across the state to compete in a professionally organized and inclusive environment. The event focuses on promoting excellence in para sports while encouraging participation\, confidence\, and sportsmanship among athletes. \nMatches will be conducted as per standard para-badminton rules\, under the supervision of qualified referees and officials. Winners and outstanding performers will be awarded certificates and medals. \nAll eligible para-athletes are encouraged to participate and take part in this celebration of determination and talent.
URL:https://meerutparaassociation.in/event/state-level-para-badminton-championship-2026/
LOCATION:Meerut Sports Complex\, Meerut\, India
CATEGORIES:Sports Championship
ATTACH;FMTTYPE=image/webp:https://meerutparaassociation.in/wp-content/uploads/2026/01/4-1.webp
ORGANIZER;CN="Paralympics Committee %E2%80%93 Meerut":MAILTO:info.paralympicsmeerut@gmail.com
END:VEVENT
END:VCALENDAR