BEGIN:VCALENDAR
VERSION:2.0
PRODID:-//Paralympics Meerut - ECPv6.15.16//NONSGML v1.0//EN
CALSCALE:GREGORIAN
METHOD:PUBLISH
X-WR-CALNAME:Paralympics Meerut
X-ORIGINAL-URL:https://meerutparaassociation.in
X-WR-CALDESC:Events for Paralympics Meerut
REFRESH-INTERVAL;VALUE=DURATION:PT1H
X-Robots-Tag:noindex
X-PUBLISHED-TTL:PT1H
BEGIN:VTIMEZONE
TZID:Asia/Kolkata
BEGIN:STANDARD
TZOFFSETFROM:+0530
TZOFFSETTO:+0530
TZNAME:IST
DTSTART:20250101T000000
END:STANDARD
END:VTIMEZONE
BEGIN:VEVENT
DTSTART;VALUE=DATE:20260322
DTEND;VALUE=DATE:20260323
DTSTAMP:20260421T154201
CREATED:20260105T065600Z
LAST-MODIFIED:20260108T092611Z
UID:3279-1774137600-1774223999@meerutparaassociation.in
SUMMARY:District Level Para Sports Selection Trials – Meerut
DESCRIPTION:The District Level Para Sports Selection Trials – Meerut is being organized to identify and promote talented para-athletes for higher-level competitions. This event aims to provide an equal platform for athletes with physical disabilities to demonstrate their skills\, determination\, and competitive spirit. \nThe trials will include multiple para-sports disciplines conducted under expert supervision and standard safety guidelines. Selected athletes will receive opportunities to represent Meerut at state-level and national-level para sporting events\, including future Paralympic pathways. \nAthletes\, coaches\, and sports officials will be present to guide participants and ensure a fair and transparent selection process. The event also focuses on spreading awareness about inclusive sports and empowering differently-abled athletes through structured training and recognition. \n\n\n\n\n\n\n\n\n\n 
URL:https://meerutparaassociation.in/event/district-level-para-sports-selection-trials-meerut/
LOCATION:Shaheed Vijay Singh Pathik Sports Complex\, meerut\, meerut\, Uttar Pradesh\, 250001\, India
CATEGORIES:District Level Games
ATTACH;FMTTYPE=image/webp:https://meerutparaassociation.in/wp-content/uploads/2026/01/3-3.webp
ORGANIZER;CN="Paralympics Committee %E2%80%93 Meerut":MAILTO:info.paralympicsmeerut@gmail.com
END:VEVENT
END:VCALENDAR